BEGIN:VCALENDAR
VERSION:2.0
PRODID:-//Tukios.com/
BEGIN:VEVENT
UID:666d39db-2804-4cb0-9bce-e4f0760d0873@www.bradshawandsonsfuneralhome.com
DTSTAMP:20260422T182541Z
DTSTART:20260424T180000Z
DTEND:20260424T190000Z
SUMMARY:Graveside Service
DESCRIPTION:
URL:https://www.bradshawandsonsfuneralhome.com/obituaries/donna-clark
LOCATION:Van Liew Cemetery 585 Georges Road  North Brunswick NJ 08902
GEO:40.4703092;-74.4510208
END:VEVENT
END:VCALENDAR