BEGIN:VCALENDAR
VERSION:2.0
PRODID:-//Tukios.com/
BEGIN:VEVENT
UID:cfcb524f-9aaa-4eda-8fcb-9b7eb681c770@www.bradshawandsonsfuneralhome.com
DTSTAMP:20260421T052342Z
DTSTART:20260423T170000Z
DTEND:20260423T180000Z
SUMMARY:Graveside Service
DESCRIPTION:
URL:https://www.bradshawandsonsfuneralhome.com/obituaries/bobby-easley
LOCATION:  Saint Peters Church Road  Crisfield MD 21817
GEO:38.0179795;-75.8174418
END:VEVENT
END:VCALENDAR